BEGIN:VCALENDAR
VERSION:2.0
PRODID:-//TotalExpo.ru v1.0//EN
BEGIN:VEVENT
DTSTAMP:20260909T120000
DTSTART:20260909T070000Z
DTEND:20260910T140000Z
SUMMARY:HORECA EXPO BAIKAL 2026 (Иркутск, Россия)
DESCRIPTION:Выставка оборудования, товаров и технологий для гостиничного бизнеса, ресторанов, кафе и кейтеринга. В рамках выставки пройдут конференции от известных спикеров.
LOCATION:Сибэкспоцентр, ВК (Россия, Иркутск)
END:VEVENT
END:VCALENDAR