BEGIN:VCALENDAR
VERSION:2.0
PRODID:-//TotalExpo.ru v1.0//EN
BEGIN:VEVENT
DTSTAMP:20261027T120000
DTSTART:20261027T070000Z
DTEND:20261029T140000Z
SUMMARY:АГРОПРОМ Урал 2026 (Екатеринбург, Россия)
DESCRIPTION:Международная выставка сельскохозяйственной техники, материалов и оборудования для животноводства и растениеводства. В экспозиции будет представлен широкий спектр продукции и услуг для ведения сельского хозяйства (сельхозтехника, запчасти, навесное оборудование, оборудование для переработки и хранения, корма, семена, удобрения).
LOCATION:Екатеринбург-Экспо (Россия, Екатеринбург)
END:VEVENT
END:VCALENDAR