BEGIN:VCALENDAR
VERSION:2.0
PRODID:-//TotalExpo.ru v1.0//EN
BEGIN:VEVENT
DTSTAMP:20260512T120000
DTSTART:20260512T070000Z
DTEND:20260514T140000Z
SUMMARY:KAZTOOLEXPO 2026 (Алма-Ата, Казахстан)
DESCRIPTION:Международная выставка «KAZTOOLEXPO» — одна из крупных специализированных мероприятии в Казахстане.
Ведущая специализированная выставка в среднеазиатском регионе входит в число самых приоритетных мероприятий Казахстана и поддерживается Палатой предпринимателей г. Алматы, Ассоциацией Торговых и Промышленных предприятий РК. <br/> Выставка объединит производителей и дистрибьютеров из разных стран мира для презентаций производимой продукции и технологических инноваций.
LOCATION:Атакент, КЦДС (Казахстан, Алма-Ата)
END:VEVENT
END:VCALENDAR