BEGIN:VCALENDAR
VERSION:2.0
PRODID:-//TotalExpo.ru v1.0//EN
BEGIN:VEVENT
DTSTAMP:20260514T120000
DTSTART:20260514T070000Z
DTEND:20260517T140000Z
SUMMARY:Клинок на Урале 2026 (Екатеринбург, Россия)
DESCRIPTION:Выставка ножей, клинковых изделий, холодного оружия. Лучшие производители из Москвы, Нижнего Новгорода, Златоуста, Тулы, Ижевска, Кизляра, Углича представят свою продукцию. Мастера со всей России продемонстрируют высокохудожественные клинковые изделия. 
LOCATION:Уральский центр развития дизайна (Россия, Екатеринбург)
END:VEVENT
END:VCALENDAR