BEGIN:VCALENDAR
VERSION:2.0
PRODID:-//TotalExpo.ru v1.0//EN
BEGIN:VEVENT
DTSTAMP:20261027T120000
DTSTART:20261027T070000Z
DTEND:20261029T140000Z
SUMMARY:RIMTOS 2026 (Москва, Россия)
DESCRIPTION:Национальное станкостроительное мероприятие, организуемое Ассоциацией «Станкоинструмент» на базе многолетнего опыта организации экспозиций российских производителей на крупнейших региональных, российских и международных выставках. Выставка призвана поддержать интересы отечественного производителя, а также дать возможность ознакомиться с последними тенденциями развития мирового станкостроения и технологии обработки.<br/>Во время выставки будут организованы конференции и семинары по наиболее актуальным вопросам и перспективам развития станкоинструментальной отрасли, в которых примут участие представители государственных исполнительных органов и депутаты, представители иностранных компаний и союзов, финансовых институтов, банков, представители бизнеса, предприятий ОПК и другие.
LOCATION:МВЦ Крокус Экспо (Россия, Москва)
END:VEVENT
END:VCALENDAR