BEGIN:VCALENDAR
VERSION:2.0
PRODID:-//TotalExpo.ru v1.0//EN
BEGIN:VEVENT
DTSTAMP:20261019T120000
DTSTART:20261019T070000Z
DTEND:20261023T140000Z
SUMMARY:Международный жилищный конгресс 2026 (Москва, Россия)
DESCRIPTION:Крупнейшее деловое мероприятие в сфере недвижимости формата B2B. На Конгресс приезжают политики, руководители крупнейших строительных компаний, агентств недвижимости, ведущих банков и других организаций, связанных с рынком недвижимости из всех регионов РФ, стран ближнего и дальнего зарубежья. На мероприятиях Конгресса выступают более 500 спикеров - ведущих практиков рынка недвижимости, признанных экспертов в сфере продаж, переговоров, новых технологий сделок и управления персоналом. В рамках Конгресса проходят свыше 400 мероприятий, которые охватывают все основные темы рынка недвижимости, более 50 мастер-классов и коммерческих тренингов.<br/>Конгресс охватит важнейшие сегменты рынка недвижимости: жилищное строительство, риэлторский бизнес, коммерческая недвижимость, ипотечное кредитование, информационные ресурсы, многие другие темы.
LOCATION:Центр Международной Торговли (ЦМТ) (Россия, Москва)
END:VEVENT
END:VCALENDAR