BEGIN:VCALENDAR
VERSION:2.0
PRODID:-//TotalExpo.ru v1.0//EN
BEGIN:VEVENT
DTSTAMP:20260512T120000
DTSTART:20260512T070000Z
DTEND:20260514T140000Z
SUMMARY:Конгресс индустрии детских товаров 2026 (Москва, Россия)
DESCRIPTION:Главное отраслевое событие года, которое проводится в целях консолидации усилий предпринимательского сообщества, развития сотрудничества федеральных и региональных органов государственной власти с бизнес-сообществом, а также выработки системных решений, способствующих повышению конкурентоспособности российской промышленности, работающей в интересах детства. 
LOCATION:Конгресс-центр Первого МГМУ им. И.М.Сеченова (Россия, Москва)
END:VEVENT
END:VCALENDAR