BEGIN:VCALENDAR
VERSION:2.0
PRODID:-//TotalExpo.ru v1.0//EN
BEGIN:VEVENT
DTSTAMP:20261028T120000
DTSTART:20261028T070000Z
DTEND:20261030T140000Z
SUMMARY:Энергетика Урала 2026 (Уфа, Россия)
DESCRIPTION:Специализированная выставка для специалистов в сфере энергетики. Проходит в рамках Российского энергетического форума.
LOCATION:Выставочный комплекс «ЭКСПО» (Россия, Уфа)
END:VEVENT
END:VCALENDAR