BEGIN:VCALENDAR
VERSION:2.0
PRODID:-//TotalExpo.ru v1.0//EN
BEGIN:VEVENT
DTSTAMP:20260627T120000
DTSTART:20260627T070000Z
DTEND:20260628T140000Z
SUMMARY:Санкт-Петербургский Фестиваль Татуировки 2026 (Санкт-Петербург, Россия)
DESCRIPTION:Старейший российский тату феcтиваль, ежегодно проводимый с 2002 года. Мероприятие с историей и репутацией, и со своей особой атмосферой, объединяющее каждый год татуировщиков, татуированных и тех, кому близок дух тату-культуры.<br/>Здесь встречаются имена с мировым именем и те, кто только взял в руки тату-машинку, кто закрасил пол-тела и кто только выбирает мастера для первой тату, самые яркие и экстравагантные неформалы и кто под строгой рубашкой прячет дракона, художники и музыканты, тусовщики и просто интересные люди – разные и яркие, объединенные идеей самовыражения через рисунок на теле.
LOCATION:A2 Green Concert (Россия, Санкт-Петербург)
END:VEVENT
END:VCALENDAR