BEGIN:VCALENDAR
VERSION:2.0
PRODID:-//TotalExpo.ru v1.0//EN
BEGIN:VEVENT
DTSTAMP:20270304T120000
DTSTART:20270304T070000Z
DTEND:20270305T140000Z
SUMMARY:Building Skin Russia 2027 (Москва, Россия)
DESCRIPTION:Форум по внешним оболочкам зданий, проходит в формате нескольких потоков конференций, мастер-классов и экспозиций на единой площадке общей площадью 3500 кв.м. Именно здесь перед гостями выступают более 100 ведущих спикеров в области фасадов, окон, стен, кровель и изоляции. Сюда ежегодно приезжают тысячи девелоперов, архитекторов, проектировщиков, застройщиков, монтажников из самых разных регионов страны, чтобы познакомиться с отраслевыми новациями и повысить свою квалификацию.
LOCATION:Амбер Плаза, Деловой центр (Россия, Москва)
END:VEVENT
END:VCALENDAR