BEGIN:VCALENDAR
VERSION:2.0
PRODID:-//TotalExpo.ru v1.0//EN
BEGIN:VEVENT
DTSTAMP:20261111T120000
DTSTART:20261111T070000Z
DTEND:20261113T140000Z
SUMMARY:ТОЧНАЯ МЕДИЦИНА. ЗДРАВООХРАНЕНИЕ ЮГА 2026 (Ростов-на-Дону, Россия)
DESCRIPTION:Конгресс-Выставка станет профессиональной площадкой для медицинского сообщества на Юге России для презентации новых технологий, продукции и услуг, для обмена мировым опытом и знаниями, будет способствовать взаимовыгодному партнерству между производителями и потребителями в медицинской сфере, направленному на обеспечение высококачественным оснащением профильных учреждений и знакомить широкую аудиторию с новыми возможностями медицинских услуг, формировать культуру прохождения чек-ап контроля состояния здоровья.
LOCATION:ДонЭкспоцентр, КВЦ (Россия, Ростов-на-Дону)
END:VEVENT
END:VCALENDAR