BEGIN:VCALENDAR
VERSION:2.0
PRODID:-//TotalExpo.ru v1.0//EN
BEGIN:VEVENT
DTSTAMP:20261111T120000
DTSTART:20261111T070000Z
DTEND:20261113T140000Z
SUMMARY:ЮгПродЭкспо 2026 (Ростов-на-Дону, Россия)
DESCRIPTION:Выставка для профессионалов пищевой отрасли. На ней будет представлен большой выбор материалов, ингредиентов и оборудования для производства продуктов питания, а также широкий ассортимент напитков и продовольственных товаров для оптовых и розничных торговых сетей и предприятий общепита.
LOCATION:ДонЭкспоцентр, КВЦ (Россия, Ростов-на-Дону)
END:VEVENT
END:VCALENDAR