BEGIN:VCALENDAR
VERSION:2.0
PRODID:-//TotalExpo.ru v1.0//EN
BEGIN:VEVENT
DTSTAMP:20260610T120000
DTSTART:20260610T070000Z
DTEND:20260613T140000Z
SUMMARY:MedBusinessAcademy 2026 (Санкт-Петербург, Россия)
DESCRIPTION:Конференция MedBusinessAcademy собирает вместе руководителей медицинских организаций и предприятий индустрии красоты для получения актуальной и максимально практической информации по теме маркетинга и управления медицинским и красивым бизнесом, а также обмена опытом и общения с единомышленниками.
LOCATION:AZIMUT Отель Санкт-Петербург (Россия, Санкт-Петербург)
END:VEVENT
END:VCALENDAR