BEGIN:VCALENDAR
VERSION:2.0
PRODID:-//TotalExpo.ru v1.0//EN
BEGIN:VEVENT
DTSTAMP:20261013T120000
DTSTART:20261013T070000Z
DTEND:20261014T140000Z
SUMMARY:E-Retail Forum 2026 (Москва, Россия)
DESCRIPTION:Международный форум электронной коммерции и ритейла (до 2024 г. - Ecom Retail Week, до 2026 г. - E-Retail Week). Участников ждут выступления лидеров и экспертов российского и зарубежного рынка e-commerce, встречи с регуляторами и ТОП-менеджментом ведущих ритейл и логистических компаний, презентации лучших кейсов, выставки успешных технологических и логистических решений и многое другое.
LOCATION:Центр Международной Торговли (ЦМТ) (Россия, Москва)
END:VEVENT
END:VCALENDAR