BEGIN:VCALENDAR
VERSION:2.0
PRODID:-//TotalExpo.ru v1.0//EN
BEGIN:VEVENT
DTSTAMP:20260923T120000
DTSTART:20260923T070000Z
DTEND:20260925T140000Z
SUMMARY:Мебель&amp;Деревообработка Урал 2026 (Екатеринбург, Россия)
DESCRIPTION:Комплексная выставка готовой мебели и оборудования для лесопереработки, деревообработки, а также материалов для мебельного производства. Планируется участие свыше 150 производителей и поставщиков.
LOCATION:Екатеринбург-Экспо (Россия, Екатеринбург)
END:VEVENT
END:VCALENDAR