BEGIN:VCALENDAR
VERSION:2.0
PRODID:-//TotalExpo.ru v1.0//EN
BEGIN:VEVENT
DTSTAMP:20210401T120000
DTSTART:20210401T070000Z
DTEND:20210531T140000Z
SUMMARY:EXPO-RUSSIA UZBEKISTAN 2021 (Ташкент, Узбекистан)
DESCRIPTION:Межотраслевая выставка EXPO-RUSSIA в Узбекистане. К участию в выставке приглашаются экспортно ориентированные компании – производители продукции и поставщики услуг в сфере: энергетики и энергосберегающих технологий, сельского хозяйства, транспорта, нефтехимической и химической промышленности, деревообработки, телекоммуникации и связи, машиностроения, металлургии, строительства, высокотехнологичных и инновационных отраслей, медицины и фармацевтики, образования, банковской деятельности, международного права.<br/> В рамках выставки запланирована деловая программа, предусматривающая проведение Ташкентского бизнес форума, конференции: «Экономическое сотрудничество России и Узбекистана на современном этапе и перспективы расширения», а также биржи контактов в формате В2В и круглых столов по вышеуказанным отраслям.
LOCATION:Онлайн (Узбекистан, Ташкент)
END:VEVENT
END:VCALENDAR