BEGIN:VCALENDAR
VERSION:2.0
PRODID:-//TotalExpo.ru v1.0//EN
BEGIN:VEVENT
DTSTAMP:20260312T120000
DTSTART:20260312T070000Z
DTEND:20260314T140000Z
SUMMARY:Hong Kong International Fur &amp; Fashion Fair 2026 (Гонконг, Китай)
DESCRIPTION:Одна из крупнейших выставок меха. Экспозиция демонстрирует готовые изделия из кожи и меха, шкурки, инструмент и оборудование для скорняков, аксессуары, и т.д.
LOCATION:Hong Kong Convention & Exhibition Centre (Китай, Гонконг)
END:VEVENT
END:VCALENDAR