BEGIN:VCALENDAR
VERSION:2.0
PRODID:-//TotalExpo.ru v1.0//EN
BEGIN:VEVENT
DTSTAMP:20260708T120000
DTSTART:20260708T070000Z
DTEND:20260711T140000Z
SUMMARY:AP-Rubber Plas 2026 (Циндао, Китай)
DESCRIPTION:Международная выставка резиновых изделий и шин. На выставке будет представлена продукция: различные шины, колесные ступицы, клапаны, шины с восстановленным протектором, резиновые изделия и полуфабрикаты, резиновые материалы и др.
LOCATION:Qingdao World Expo City (Китай, Циндао)
END:VEVENT
END:VCALENDAR