BEGIN:VCALENDAR
VERSION:2.0
PRODID:-//TotalExpo.ru v1.0//EN
BEGIN:VEVENT
DTSTAMP:20260326T120000
DTSTART:20260326T070000Z
DTEND:20260329T140000Z
SUMMARY:QINGDAO METAL WORKING EXPO 2026 (Циндао, Китай)
DESCRIPTION:Международная выставка по металлообработке. <br/> Основные группы товаров: металлорежущие станки; оборудование и технологии; металлообрабатывающее оборудование и технологии; инструменты и материалы; подшипники; печи и оборудование для термообработки; оборудование для поверхностной обработки; сварочное оборудование; лазерные резаки; плазменная сварка; оборудование для проверки, испытания и измерения; краны и подъемники; роботы; автоматизация производства; металлические заготовки; смазочные и чистящие материалы; технологии и оборудование для сборки; защитные технологии и оборудование для охраны окружающей среды; запчасти и комплектующие.
LOCATION:Qingdao International Expo Center (Китай, Циндао)
END:VEVENT
END:VCALENDAR